BEGIN:VCALENDAR
VERSION:2.0
PRODID:-//MiTienda.CR - ECPv6.15.18//NONSGML v1.0//EN
CALSCALE:GREGORIAN
METHOD:PUBLISH
X-ORIGINAL-URL:https://mitienda.cr
X-WR-CALDESC:Eventos para MiTienda.CR
REFRESH-INTERVAL;VALUE=DURATION:PT1H
X-Robots-Tag:noindex
X-PUBLISHED-TTL:PT1H
BEGIN:VTIMEZONE
TZID:America/Costa_Rica
BEGIN:STANDARD
TZOFFSETFROM:-0600
TZOFFSETTO:-0600
TZNAME:CST
DTSTART:20220101T000000
END:STANDARD
END:VTIMEZONE
BEGIN:VEVENT
DTSTART;VALUE=DATE:20231118
DTEND;VALUE=DATE:20231119
DTSTAMP:20260421T063521
CREATED:20230813T133113Z
LAST-MODIFIED:20230828T183851Z
UID:12624-1700265600-1700351999@mitienda.cr
SUMMARY:Ruta Cacao - CATIE Turrialba
DESCRIPTION:Una ruta recreativa pero cronometrada en la zona de Turrialba\, propiamente en el CATIE\, pasando por sus cultivos de Cacao exclusivo. \nModalidades de Inscripción:\n– Ruta larga 28 kms / 550 mts desnivel\n– Ruta corta 12 kms / 150 mts desnivel \nEl paquete incluye:\n– Número-chip\, cronometraje y fotografías\n– Medalla de finisher\n– Póliza de vida\n– Ambulancia\n– Señalización\n– Puesto de asistencia con fruta\, agua e hidratante\n– Derecho a rifas de los patrocinadores\n– Entretenimiento para los acompañantes \nModalidades de Inscripción:\n\n\n\n    \n        \n            \n            \n                Ruta larga 28 kms / 550 mts desnivel\n                 1 archivo(s)  432.03 KB\n            \n            \n                Descargar\n            \n        \n    \n\n\n \n\n\n\n\n    \n        \n            \n            \n                Ruta corta 12 kms / 150 mts desnivel\n                 1 archivo(s)  200.40 KB\n            \n            \n                Descargar
URL:https://mitienda.cr/evento/ruta-cacao-catie-turrialba/
CATEGORIES:Eventos
ATTACH;FMTTYPE=image/jpeg:https://mitienda.cr/wp-content/uploads/2023/08/Ruta-CACAO.jpeg
END:VEVENT
END:VCALENDAR